BEGIN:VCALENDAR
VERSION:2.0
PRODID:-//SVP Aarberg //NONSGML Events //EN
CALSCALE:GREGORIAN
X-WR-CALNAME:SVP Aarberg
BEGIN:VEVENT
CREATED:20251122T182550Z
UID:2838
DTEND:20260529T190000
DTSTART:20260529T180000
DTSTAMP:20260425T141504Z
LOCATION:
DESCRIPTION:Besichtigung Geschäfte Gemeindeversammlung
SUMMARY:Parteiversammlung
ORGANIZER:
URL;VALUE=URI:https://www.svp-aarberg.ch/termine/parteiversammlung-4/
TRANSP:OPAQUE
END:VEVENT
END:VCALENDAR
