BEGIN:VCALENDAR
VERSION:2.0
PRODID:-//SVP Aarberg //NONSGML Events //EN
CALSCALE:GREGORIAN
X-WR-CALNAME:SVP Aarberg
BEGIN:VEVENT
CREATED:20211027T060601Z
UID:1501
DTEND:20220318T000000
DTSTART:20220228T000000
DTSTAMP:20260422T085117Z
LOCATION:
DESCRIPTION:
SUMMARY:Start: Eidg. Session
ORGANIZER:
URL;VALUE=URI:https://www.svp-aarberg.ch/termine/start-eidg-session-5/
TRANSP:OPAQUE
END:VEVENT
END:VCALENDAR
