BEGIN:VCALENDAR
VERSION:2.0
PRODID:-//SVP Aarberg //NONSGML Events //EN
CALSCALE:GREGORIAN
X-WR-CALNAME:SVP Aarberg
BEGIN:VEVENT
CREATED:20211027T061531Z
UID:1494
DTEND:20220110T210000
DTSTART:20220110T200000
DTSTAMP:20260426T042400Z
LOCATION:
DESCRIPTION:
SUMMARY:Delegiertenversammlung SVP Kanton Bern
ORGANIZER:
URL;VALUE=URI:https://www.svp-aarberg.ch/termine/delegiertenversammlung-svp-kanton-bern-5/
TRANSP:OPAQUE
END:VEVENT
END:VCALENDAR
