BEGIN:VCALENDAR
VERSION:2.0
PRODID:-//SVP Aarberg //NONSGML Events //EN
CALSCALE:GREGORIAN
X-WR-CALNAME:SVP Aarberg
BEGIN:VEVENT
CREATED:20211025T094641Z
UID:1485
DTEND:20221112T100000
DTSTART:20221112T090000
DTSTAMP:20260422T105749Z
LOCATION:Krone Aarberg
DESCRIPTION:
SUMMARY:Vorstandssitzung SVP Aarberg
ORGANIZER:
URL;VALUE=URI:https://www.svp-aarberg.ch/termine/vorstandssitzung-svp-aarberg-7/
TRANSP:OPAQUE
END:VEVENT
END:VCALENDAR
